{"text_format":"3","workbook":"xlsx","n_sheets":4,"sheets":["Inscrições em Grupo","Contas para Depositos - Valores","Plan1","Parametros"],"not_rendered":{"images":1,"macros":1,"defined_names":7},"read":"whole","date_system":"1900"}

{"sheet":"Inscrições em Grupo","index":0,"n_rows":54,"n_cols":9,"rows_kept":54,"merged":[[0,1,0,8],[1,1,1,8],[2,1,2,8],[3,2,3,8],[4,5,4,7],[5,2,5,3],[5,5,5,6],[6,5,6,6],[7,1,7,8],[29,6,29,7],[31,1,31,8],[53,6,53,7]]}
[null,"CORRE - Clube dos Corredores de Rua do Recife"]
[null,"*** Relação de Inscritos Grupos, Equipes e Assessorias ***"]
[null,"WWW.CORREDORESDORECIFE.COM"]
[null,"EVENTO *","41ª CICORRE - ETAPA VARZEA -04/08/2024"]
[null,null,"APÓS PREENCHER ENVIE PARA: CORRE@CORREDORESDORECIFE.COM",null,null,"*  CAMPOS OBRIGATÓRIOS"]
[null,"GRUPO/EQUIPE *",null,null,"RESPONSÁVEL *",null,null,"CELULAR / WHATSAPP *"]
[{"$nulls":4},"TOTAL >>",{"$f":"F30+F54","v":{"v":0,"d":"R$ 0.00"}},null,"ATLETAS >>",{"$f":"I30+I54","v":{"v":0,"d":"00"}}]
[null,{"$f":"IFERROR(CONCATENATE(\"Modalidade: \", VLOOKUP(C4,Eventos,2,0)),\"\")","v":"Modalidade: 5 km"}]
[null,"NÚMERO DE PEITO","NOME *","EMAIL *","DATA NASCIMENTO *","IDADE (EM 31/12/2024) *","SEXO *","CPF *","Celular/WhatsApp"]
[{"$nulls":5},{"$f":"Parametros!$G$2-YEAR(E10)","v":124}]
[{"$nulls":5},{"$f":"Parametros!$G$2-YEAR(E11)","v":124}]
[{"$nulls":5},{"$f":"Parametros!$G$2-YEAR(E12)","v":124}]
[{"$nulls":5},{"$f":"Parametros!$G$2-YEAR(E13)","v":124}]
[{"$nulls":5},{"$f":"Parametros!$G$2-YEAR(E14)","v":124}]
[{"$nulls":5},{"$f":"Parametros!$G$2-YEAR(E15)","v":124}]
[{"$nulls":5},{"$f":"Parametros!$G$2-YEAR(E16)","v":124}]
[{"$nulls":5},{"$f":"Parametros!$G$2-YEAR(E17)","v":124}]
[{"$nulls":5},{"$f":"Parametros!$G$2-YEAR(E18)","v":124}]
[{"$nulls":5},{"$f":"Parametros!$G$2-YEAR(E19)","v":124}]
[{"$nulls":5},{"$f":"Parametros!$G$2-YEAR(E20)","v":124}]
[{"$nulls":5},{"$f":"Parametros!$G$2-YEAR(E21)","v":124}]
[{"$nulls":5},{"$f":"Parametros!$G$2-YEAR(E22)","v":124}]
[{"$nulls":5},{"$f":"Parametros!$G$2-YEAR(E23)","v":124}]
[{"$nulls":5},{"$f":"Parametros!$G$2-YEAR(E24)","v":124}]
[{"$nulls":5},{"$f":"Parametros!$G$2-YEAR(E25)","v":124}]
[{"$nulls":5},{"$f":"Parametros!$G$2-YEAR(E26)","v":124}]
[{"$nulls":5},{"$f":"Parametros!$G$2-YEAR(E27)","v":124}]
[{"$nulls":5},{"$f":"Parametros!$G$2-YEAR(E28)","v":124}]
[{"$nulls":5},{"$f":"Parametros!$G$2-YEAR(E29)","v":124}]
[{"$nulls":4},"VALOR >>",{"$f":"(COUNTIF(F10:F29,\">=60\")-COUNTIF(F10:F29,\">=120\"))*Parametros!D2+(COUNTIF(F10:F29,\"<60\"))*Parametros!E2","v":{"v":0,"d":"R$ 0.00"}},"QUANTIDADE DE ATLETAS >>",null,{"$f":"COUNTA(C10:C29)","v":{"v":0,"d":"00"}}]
[]
[null,{"$f":"IFERROR(CONCATENATE(\"Modalidade: \", VLOOKUP(C4,Eventos,3,0)),\"\")","v":"Modalidade: 12 km"}]
[null,"NÚMERO DE PEITO","Nome *","EMAIL *","DATA NASCIMENTO*","IDADE (EM 31/12/2023) *","SEXO *","CPF *","Celular/WhatsApp"]
[{"$nulls":5},{"$f":"Parametros!$G$2-YEAR(E34)","v":124}]
[{"$nulls":5},{"$f":"Parametros!$G$2-YEAR(E35)","v":124}]
[{"$nulls":5},{"$f":"Parametros!$G$2-YEAR(E36)","v":124}]
[{"$nulls":5},{"$f":"Parametros!$G$2-YEAR(E37)","v":124}]
[{"$nulls":5},{"$f":"Parametros!$G$2-YEAR(E38)","v":124}]
[{"$nulls":5},{"$f":"Parametros!$G$2-YEAR(E39)","v":124}]
[{"$nulls":5},{"$f":"Parametros!$G$2-YEAR(E40)","v":124}]
[{"$nulls":5},{"$f":"Parametros!$G$2-YEAR(E41)","v":124}]
[{"$nulls":5},{"$f":"Parametros!$G$2-YEAR(E42)","v":124}]
[{"$nulls":5},{"$f":"Parametros!$G$2-YEAR(E43)","v":124}]
[{"$nulls":5},{"$f":"Parametros!$G$2-YEAR(E44)","v":124}]
[{"$nulls":5},{"$f":"Parametros!$G$2-YEAR(E45)","v":124}]
[{"$nulls":5},{"$f":"Parametros!$G$2-YEAR(E46)","v":124}]
[{"$nulls":5},{"$f":"Parametros!$G$2-YEAR(E47)","v":124}]
[{"$nulls":5},{"$f":"Parametros!$G$2-YEAR(E48)","v":124}]
[{"$nulls":5},{"$f":"Parametros!$G$2-YEAR(E49)","v":124}]
[{"$nulls":5},{"$f":"Parametros!$G$2-YEAR(E50)","v":124}]
[{"$nulls":5},{"$f":"Parametros!$G$2-YEAR(E51)","v":124}]
[{"$nulls":5},{"$f":"Parametros!$G$2-YEAR(E52)","v":124}]
[{"$nulls":5},{"$f":"Parametros!$G$2-YEAR(E53)","v":124}]
[{"$nulls":4},"VALOR >>",{"$f":"(COUNTIF(F34:F53,\">=60\")-COUNTIF(F34:F53,\">=120\"))*Parametros!D2+(COUNTIF(F34:F53,\"<60\"))*Parametros!E2","v":{"v":0,"d":"R$ 0.00"}},"QUANTIDADE DE ATLETAS >>",null,{"$f":"COUNTA(C34:C53)","v":{"v":0,"d":"00"}}]

{"sheet":"Contas para Depositos - Valores","index":1,"n_rows":14,"n_cols":3,"rows_kept":14,"merged":[[0,1,0,2],[2,1,2,2],[6,1,6,2],[10,1,10,2]]}
[null,"*** Contas para Depósito ou TEF ***"]
[]
[null," BB - Banco do Brasil"]
[null,"Titular:","Fernando Simões Carneiro Júnior"]
[null,"CPF:","XXX.151.XXX-XX"]
[null,"PIX (chave email)","py7fjr@hotmail.com"]
[null,"CEF - Caixa Economica Federal (Casas Lotéricas)"]
[null,"Titular:","Fernando Simões Carneiro Júnior"]
[null,"CPF:","XXX.151.XXX-XX"]
[null,"PIX (chave celular)",81988175335]
[null,"Valor da inscrição (Mínimo de 10 Inscritos)"]
[null,"Idade","Valor"]
[null,"Até 59 anos em 31/12/2024",{"v":70,"d":"R$ 70.00"}]
[null,"60 anos ou mais em 31/12/2024",{"v":35,"d":"R$ 35.00"}]

{"sheet":"Plan1","index":2,"n_rows":0,"n_cols":0,"rows_kept":0,"hidden":true}

{"sheet":"Parametros","index":3,"n_rows":3,"n_cols":7,"rows_kept":3,"hidden":true}
["Nome CICORRE","Dist Alternativo","Dist Principal","Vl Idoso","Vl Geral",null,"Ano"]
["41ª CICORRE - Etapa Varzea -04/08/2024","5 km","12 km",35,70,null,2024]
["41ª CICORRE - Etapa Ttorre Malakoff - 12/05/2024","4,5 km","9 km",35,70,null,2024]